BEGIN:VCALENDAR
VERSION:2.0
PRODID:-//WodCrew - ECPv6.15.18//NONSGML v1.0//EN
CALSCALE:GREGORIAN
METHOD:PUBLISH
X-ORIGINAL-URL:https://wodcrew.com
X-WR-CALDESC:Eventos para WodCrew
REFRESH-INTERVAL;VALUE=DURATION:PT1H
X-Robots-Tag:noindex
X-PUBLISHED-TTL:PT1H
BEGIN:VTIMEZONE
TZID:UTC
BEGIN:STANDARD
TZOFFSETFROM:+0000
TZOFFSETTO:+0000
TZNAME:UTC
DTSTART:20220101T000000
END:STANDARD
END:VTIMEZONE
BEGIN:VEVENT
DTSTART;TZID=UTC:20230929T000000
DTEND;TZID=UTC:20231001T235959
DTSTAMP:20260422T220121
CREATED:20230906T115045Z
LAST-MODIFIED:20230906T115045Z
UID:1042-1695945600-1696204799@wodcrew.com
SUMMARY:Málaga Throwdown 2023: La Épica Competición CrossFit en Málaga
DESCRIPTION:¿Has oído hablar de la emocionante competición de CrossFit en Málaga conocida como Málaga Throwdown? Si eres un apasionado del CrossFit y estás buscando información sobre competiciones en España\, estás en el lugar correcto. En este artículo\, te llevaremos al corazón de la acción de la competición CrossFit en Málaga. \nLa Competición CrossFit en Málaga que Debes Conocer\nMálaga Throwdown\, la competición de CrossFit más destacada en la región\, atrae a atletas de élite de toda España. Este evento anual es un emocionante escaparate de la fuerza\, resistencia y destreza de los competidores. \n¿Qué Hace Especial a Málaga Throwdown?\nMálaga Throwdown se destaca por su exigente selección de pruebas y desafíos únicos que ponen a prueba las habilidades de los atletas. Desde levantamiento de pesas hasta movimientos gimnásticos\, esta competición lo tiene todo. Además\, el ambiente vibrante y la camaradería entre competidores y espectadores hacen que sea una experiencia inolvidable. \nEl Espíritu de las Competiciones CrossFit en España\nMálaga Throwdown es solo una muestra del creciente interés por las competiciones de CrossFit en España. Cada vez más atletas se unen a estas competiciones para medir sus habilidades contra otros apasionados del fitness. \nParticipar en la Competición CrossFit en Málaga\nSi estás interesado en participar en la competición CrossFit en Málaga\, asegúrate de estar bien preparado físicamente y mentalmente. Entrena duro y mantente al tanto de los detalles de registro y fechas del evento para no perderte esta emocionante experiencia. \n¿Qué Debes Saber Sobre la Competición CrossFit Málaga?\n\nFecha y Ubicación: Málaga Throwdown se celebra anualmente en el corazón de Málaga. Este año la fecha será 29\, 30 de septiembre y 1 de Octubre\nCategorías de Competición: Málaga Throwdown ofrece diferentes categorías según tu nivel de habilidad y género\, lo que permite a atletas de todos los niveles participar.\nPremios y Reconocimientos: Además de la gloria de la victoria\, los ganadores de Málaga Throwdown reciben premios en efectivo y regalos de patrocinadores.\n\nConclusión\nEn resumen\, Málaga Throwdown es la competición de CrossFit en Málaga que debes tener en tu radar. Si eres un amante del CrossFit o estás buscando sumergirte en el emocionante mundo de las competiciones de fitness\, esta es tu oportunidad. ¡Prepárate para desafiar tus límites y unirte a la comunidad CrossFit en Málaga en este evento imperdible! Mantente informado sobre las fechas y detalles de inscripción para no perderte la próxima edición de esta competición épica. \nRecuerda que\, en este artículo\, hemos cubierto la información esencial sobre Málaga Throwdown y cómo se relaciona con la competición CrossFit en Málaga. ¡Esperamos que esta guía te haya sido útil en tu búsqueda de conocimiento sobre este emocionante evento!
URL:https://wodcrew.com/eventos/malaga-throwdown-2023-la-epica-competicion-crossfit-en-malaga/
CATEGORIES:Competiciones,Crossfit,España,Málaga
ATTACH;FMTTYPE=image/png:https://wodcrew.com/wp-content/uploads/2023/09/competicion-crossfit-malaga-throwdown-2023-evento-crossfit.png
END:VEVENT
END:VCALENDAR